BEGIN:VCALENDAR
VERSION:2.0
PRODID:-//Texas Pension Review Board - ECPv6.11.0.1//NONSGML v1.0//EN
CALSCALE:GREGORIAN
METHOD:PUBLISH
X-ORIGINAL-URL:https://www.prb.texas.gov
X-WR-CALDESC:Events for Texas Pension Review Board
REFRESH-INTERVAL;VALUE=DURATION:PT1H
X-Robots-Tag:noindex
X-PUBLISHED-TTL:PT1H
BEGIN:VTIMEZONE
TZID:America/Chicago
BEGIN:DAYLIGHT
TZOFFSETFROM:-0600
TZOFFSETTO:-0500
TZNAME:CDT
DTSTART:20240310T080000
END:DAYLIGHT
BEGIN:STANDARD
TZOFFSETFROM:-0500
TZOFFSETTO:-0600
TZNAME:CST
DTSTART:20241103T070000
END:STANDARD
END:VTIMEZONE
BEGIN:VEVENT
DTSTART;VALUE=DATE:20240125
DTEND;VALUE=DATE:20240126
DTSTAMP:20260420T102207
CREATED:20231106T200429Z
LAST-MODIFIED:20231106T200429Z
UID:12078-1706140800-1706227199@www.prb.texas.gov
SUMMARY:Actuarial Committee Meeting
DESCRIPTION:
URL:https://www.prb.texas.gov/event/actuarial-committee-meeting-8/
LOCATION:TX
END:VEVENT
END:VCALENDAR