BEGIN:VCALENDAR
VERSION:2.0
PRODID:-//Texas Pension Review Board - ECPv5.7.0//NONSGML v1.0//EN
CALSCALE:GREGORIAN
METHOD:PUBLISH
X-WR-CALNAME:Texas Pension Review Board
X-ORIGINAL-URL:https://www.prb.texas.gov
X-WR-CALDESC:Events for Texas Pension Review Board
BEGIN:VTIMEZONE
TZID:America/Chicago
BEGIN:DAYLIGHT
TZOFFSETFROM:-0600
TZOFFSETTO:-0500
TZNAME:CDT
DTSTART:20200308T080000
END:DAYLIGHT
BEGIN:STANDARD
TZOFFSETFROM:-0500
TZOFFSETTO:-0600
TZNAME:CST
DTSTART:20201101T070000
END:STANDARD
END:VTIMEZONE
BEGIN:VEVENT
DTSTART;TZID=America/Chicago:20200330T100000
DTEND;TZID=America/Chicago:20200330T120000
DTSTAMP:20210604T050423
CREATED:20200316T152633Z
LAST-MODIFIED:20200316T152945Z
UID:5117-1585562400-1585569600@www.prb.texas.gov
SUMMARY:Actuarial Committee Meeting - POSTPONED
DESCRIPTION:The Legislature canceled all public meetings in the Capitol due to COVID-19 precautions. Out of concern for stakeholder safety\, the PRB has postponed the March Actuarial Committee meeting. \nWe will communicate the new meeting date as soon as it is scheduled
URL:https://www.prb.texas.gov/event/actuarial-committee-meeting-postponed/
CATEGORIES:Meeting
END:VEVENT
END:VCALENDAR