BEGIN:VCALENDAR
VERSION:2.0
PRODID:-//Texas Pension Review Board - ECPv5.6.0//NONSGML v1.0//EN
CALSCALE:GREGORIAN
METHOD:PUBLISH
X-WR-CALNAME:Texas Pension Review Board
X-ORIGINAL-URL:https://www.prb.texas.gov
X-WR-CALDESC:Events for Texas Pension Review Board
BEGIN:VTIMEZONE
TZID:America/Chicago
BEGIN:DAYLIGHT
TZOFFSETFROM:-0600
TZOFFSETTO:-0500
TZNAME:CDT
DTSTART:20210314T080000
END:DAYLIGHT
BEGIN:STANDARD
TZOFFSETFROM:-0500
TZOFFSETTO:-0600
TZNAME:CST
DTSTART:20211107T070000
END:STANDARD
END:VTIMEZONE
BEGIN:VEVENT
DTSTART;TZID=America/Chicago:20210916T100000
DTEND;TZID=America/Chicago:20210916T120000
DTSTAMP:20210514T052252
CREATED:20210115T150414Z
LAST-MODIFIED:20210115T150414Z
UID:5702-1631786400-1631793600@www.prb.texas.gov
SUMMARY:PRB Board Meeting
DESCRIPTION:
URL:https://www.prb.texas.gov/event/prb-board-meeting-4/
CATEGORIES:Meeting
END:VEVENT
END:VCALENDAR