BEGIN:VCALENDAR
VERSION:2.0
PRODID:-//Texas Pension Review Board - ECPv5.6.0//NONSGML v1.0//EN
CALSCALE:GREGORIAN
METHOD:PUBLISH
X-WR-CALNAME:Texas Pension Review Board
X-ORIGINAL-URL:https://www.prb.texas.gov
X-WR-CALDESC:Events for Texas Pension Review Board
BEGIN:VTIMEZONE
TZID:America/Chicago
BEGIN:DAYLIGHT
TZOFFSETFROM:-0600
TZOFFSETTO:-0500
TZNAME:CDT
DTSTART:20200308T080000
END:DAYLIGHT
BEGIN:STANDARD
TZOFFSETFROM:-0500
TZOFFSETTO:-0600
TZNAME:CST
DTSTART:20201101T070000
END:STANDARD
END:VTIMEZONE
BEGIN:VEVENT
DTSTART;VALUE=DATE:20200617
DTEND;VALUE=DATE:20200618
DTSTAMP:20210527T034653
CREATED:20200210T161830Z
LAST-MODIFIED:20200210T161830Z
UID:4858-1592352000-1592438399@www.prb.texas.gov
SUMMARY:Austin Police Retirement System Board Meeting
DESCRIPTION:
URL:https://www.prb.texas.gov/event/austin-police-retirement-system-board-meeting-8/
END:VEVENT
BEGIN:VEVENT
DTSTART;VALUE=DATE:20200617
DTEND;VALUE=DATE:20200618
DTSTAMP:20210527T034653
CREATED:20200210T162346Z
LAST-MODIFIED:20200210T162346Z
UID:4876-1592352000-1592438399@www.prb.texas.gov
SUMMARY:City of El Paso Employees Retirement Trust Board Meeting
DESCRIPTION:
URL:https://www.prb.texas.gov/event/city-of-el-paso-employees-retirement-trust-board-meeting-5/
END:VEVENT
BEGIN:VEVENT
DTSTART;VALUE=DATE:20200617
DTEND;VALUE=DATE:20200618
DTSTAMP:20210527T034653
CREATED:20200213T185127Z
LAST-MODIFIED:20200213T185127Z
UID:4949-1592352000-1592438399@www.prb.texas.gov
SUMMARY:El Paso Firemen & Policemen Pension Fund Board Meeting
DESCRIPTION:
URL:https://www.prb.texas.gov/event/el-paso-firemen-policemen-pension-fund-board-meeting-5/
END:VEVENT
END:VCALENDAR