BEGIN:VCALENDAR
VERSION:2.0
PRODID:-//Texas Pension Review Board - ECPv5.7.0//NONSGML v1.0//EN
CALSCALE:GREGORIAN
METHOD:PUBLISH
X-WR-CALNAME:Texas Pension Review Board
X-ORIGINAL-URL:https://www.prb.texas.gov
X-WR-CALDESC:Events for Texas Pension Review Board
BEGIN:VTIMEZONE
TZID:America/Chicago
BEGIN:DAYLIGHT
TZOFFSETFROM:-0600
TZOFFSETTO:-0500
TZNAME:CDT
DTSTART:20200308T080000
END:DAYLIGHT
BEGIN:STANDARD
TZOFFSETFROM:-0500
TZOFFSETTO:-0600
TZNAME:CST
DTSTART:20201101T070000
END:STANDARD
END:VTIMEZONE
BEGIN:VEVENT
DTSTART;TZID=America/Chicago:20200505T100000
DTEND;TZID=America/Chicago:20200505T120000
DTSTAMP:20210529T120923
CREATED:20200213T190819Z
LAST-MODIFIED:20200213T190819Z
UID:4989-1588672800-1588680000@www.prb.texas.gov
SUMMARY:Galveston Employees' Retirement Plan for Police Board Meeting
DESCRIPTION:
URL:https://www.prb.texas.gov/event/galveston-employees-retirement-plan-for-police-board-meeting/
END:VEVENT
BEGIN:VEVENT
DTSTART;TZID=America/Chicago:20200505T130000
DTEND;TZID=America/Chicago:20200505T150000
DTSTAMP:20210529T120923
CREATED:20200213T190421Z
LAST-MODIFIED:20200213T190421Z
UID:4983-1588683600-1588690800@www.prb.texas.gov
SUMMARY:Galveston Employees' Retirement Fund Board Meeting
DESCRIPTION:
URL:https://www.prb.texas.gov/event/galveston-employees-retirement-fund-board-meeting/
END:VEVENT
END:VCALENDAR