BEGIN:VCALENDAR
VERSION:2.0
PRODID:-//Texas Pension Review Board - ECPv5.7.0//NONSGML v1.0//EN
CALSCALE:GREGORIAN
METHOD:PUBLISH
X-WR-CALNAME:Texas Pension Review Board
X-ORIGINAL-URL:https://www.prb.texas.gov
X-WR-CALDESC:Events for Texas Pension Review Board
BEGIN:VTIMEZONE
TZID:America/Chicago
BEGIN:DAYLIGHT
TZOFFSETFROM:-0600
TZOFFSETTO:-0500
TZNAME:CDT
DTSTART:20200308T080000
END:DAYLIGHT
BEGIN:STANDARD
TZOFFSETFROM:-0500
TZOFFSETTO:-0600
TZNAME:CST
DTSTART:20201101T070000
END:STANDARD
END:VTIMEZONE
BEGIN:VEVENT
DTSTART;VALUE=DATE:20200429
DTEND;VALUE=DATE:20200430
DTSTAMP:20210529T120913
CREATED:20200213T195016Z
LAST-MODIFIED:20200213T195016Z
UID:5066-1588118400-1588204799@www.prb.texas.gov
SUMMARY:San Antonio Fire & Police Pension Fund Board Meeting
DESCRIPTION:
URL:https://www.prb.texas.gov/event/san-antonio-fire-police-pension-fund-board-meeting-20/
END:VEVENT
END:VCALENDAR