BEGIN:VCALENDAR
VERSION:2.0
PRODID:-//Texas Pension Review Board - ECPv5.7.0//NONSGML v1.0//EN
CALSCALE:GREGORIAN
METHOD:PUBLISH
X-WR-CALNAME:Texas Pension Review Board
X-ORIGINAL-URL:https://www.prb.texas.gov
X-WR-CALDESC:Events for Texas Pension Review Board
BEGIN:VTIMEZONE
TZID:America/Chicago
BEGIN:DAYLIGHT
TZOFFSETFROM:-0600
TZOFFSETTO:-0500
TZNAME:CDT
DTSTART:20190310T080000
END:DAYLIGHT
BEGIN:STANDARD
TZOFFSETFROM:-0500
TZOFFSETTO:-0600
TZNAME:CST
DTSTART:20191103T070000
END:STANDARD
END:VTIMEZONE
BEGIN:VEVENT
DTSTART;VALUE=DATE:20190502
DTEND;VALUE=DATE:20190503
DTSTAMP:20210617T185320
CREATED:20190426T192711Z
LAST-MODIFIED:20190426T192711Z
UID:4105-1556755200-1556841599@www.prb.texas.gov
SUMMARY:Pensions\, Investments  & Financial Services Hearing
DESCRIPTION:HOUSE OF REPRESENTATIVES \nNOTICE OF PUBLIC HEARING\n\n\n\n\n\n\nCOMMITTEE:    Pensions\, Investments & Financial Services \nTIME & DATE:  8:00 AM\, Thursday\, May 2\, 2019 \nPLACE:       E2.026\nCHAIR:       Rep. Jim Murphy\n\n\n\n\n\n\n  \nThe committee will meet to consider the following: \n \n\n\nHB 1258        Craddick | et al.\nRelating to credit services organizations and extensions of consumer credit facilitated by credit services organizations; increasing a criminal penalty.\n\n\nHB 2472        Gutierrez\nRelating to retirement benefits for certain peace officers who are members of the Teacher Retirement System of Texas\, including the creation of a peace officer supplemental retirement fund.\n\n\nHB 2652        Flynn\nRelating to the procurement of investment and consulting services by certain public retirement systems.\n\n\nHB 2657        Flynn\nRelating to the funding soundness restoration plans required for certain public retirement systems.\n\n\nHB 2822        Flynn\nRelating to increasing the interest rate and maximum reference base amount of certain consumer loans.\n\n\nHB 3887        Capriglione\nRelating to enrollment of certain retirees in and cost-sharing for the Texas Public School Employees Group Insurance Program.\n\n\nHB 4026        Dominguez\nRelating to authorizing certain retired public school employees to participate in the state employee group benefits program.\n\n\nHB 4408        Middleton\nRelating to the authority of a political subdivision to issue public securities for certain purposes.\n\n\nSB 2037        Hall\nRelating to a study regarding the feasibility of implementing a central filing system for the filing of financing statements for security interests in farm products.\n\n\n\n\n\n\nNOTICE OF ASSISTANCE AT PUBLIC MEETINGS \nPersons with disabilities who plan to attend this meeting and who may need assistance\, such as a sign language interpreter\, are requested to contact Stacey Nicchio at (512) 463-0850\, 72 hours prior to the meeting so that appropriate arrangements can be made.
URL:https://www.prb.texas.gov/event/pensions-investments-financial-services-hearing/
END:VEVENT
END:VCALENDAR