BEGIN:VCALENDAR
VERSION:2.0
PRODID:-//Texas Pension Review Board - ECPv5.7.0//NONSGML v1.0//EN
CALSCALE:GREGORIAN
METHOD:PUBLISH
X-WR-CALNAME:Texas Pension Review Board
X-ORIGINAL-URL:https://www.prb.texas.gov
X-WR-CALDESC:Events for Texas Pension Review Board
BEGIN:VTIMEZONE
TZID:America/Chicago
BEGIN:DAYLIGHT
TZOFFSETFROM:-0600
TZOFFSETTO:-0500
TZNAME:CDT
DTSTART:20180311T080000
END:DAYLIGHT
BEGIN:STANDARD
TZOFFSETFROM:-0500
TZOFFSETTO:-0600
TZNAME:CST
DTSTART:20181104T070000
END:STANDARD
END:VTIMEZONE
BEGIN:VEVENT
DTSTART;VALUE=DATE:20180920
DTEND;VALUE=DATE:20180922
DTSTAMP:20210617T150140
CREATED:20180517T153502Z
LAST-MODIFIED:20180517T153502Z
UID:3458-1537401600-1537574399@www.prb.texas.gov
SUMMARY:TRS Board Meeting
DESCRIPTION:
URL:https://www.prb.texas.gov/event/trs-board-meeting-2/
LOCATION:TRS\, 1000 Red River Street\, Austin\, Texas\, 78701
END:VEVENT
END:VCALENDAR