BEGIN:VCALENDAR
VERSION:2.0
PRODID:-//Texas Pension Review Board - ECPv5.7.0//NONSGML v1.0//EN
CALSCALE:GREGORIAN
METHOD:PUBLISH
X-WR-CALNAME:Texas Pension Review Board
X-ORIGINAL-URL:https://www.prb.texas.gov
X-WR-CALDESC:Events for Texas Pension Review Board
BEGIN:VTIMEZONE
TZID:America/Chicago
BEGIN:DAYLIGHT
TZOFFSETFROM:-0600
TZOFFSETTO:-0500
TZNAME:CDT
DTSTART:20180311T080000
END:DAYLIGHT
BEGIN:STANDARD
TZOFFSETFROM:-0500
TZOFFSETTO:-0600
TZNAME:CST
DTSTART:20181104T070000
END:STANDARD
END:VTIMEZONE
BEGIN:VEVENT
DTSTART;VALUE=DATE:20181206
DTEND;VALUE=DATE:20181208
DTSTAMP:20210617T185100
CREATED:20180515T165056Z
LAST-MODIFIED:20180515T205853Z
UID:3436-1544054400-1544227199@www.prb.texas.gov
SUMMARY:TMRS Board Meeting
DESCRIPTION:Board of Trustees Meeting – Austin
URL:https://www.prb.texas.gov/event/tmrs-board-meeting-6/
LOCATION:TMRS Headquarters\, 1200 North IH 35\, Austin\, TX\, United States
END:VEVENT
END:VCALENDAR