BEGIN:VCALENDAR
VERSION:2.0
PRODID:-//Texas Pension Review Board - ECPv5.6.0//NONSGML v1.0//EN
CALSCALE:GREGORIAN
METHOD:PUBLISH
X-WR-CALNAME:Texas Pension Review Board
X-ORIGINAL-URL:https://www.prb.texas.gov
X-WR-CALDESC:Events for Texas Pension Review Board
BEGIN:VTIMEZONE
TZID:America/Chicago
BEGIN:DAYLIGHT
TZOFFSETFROM:-0600
TZOFFSETTO:-0500
TZNAME:CDT
DTSTART:20190310T080000
END:DAYLIGHT
BEGIN:STANDARD
TZOFFSETFROM:-0500
TZOFFSETTO:-0600
TZNAME:CST
DTSTART:20191103T070000
END:STANDARD
END:VTIMEZONE
BEGIN:VEVENT
DTSTART;TZID=America/Chicago:20190822T130000
DTEND;TZID=America/Chicago:20190822T130000
DTSTAMP:20210504T012643
CREATED:20190117T143540Z
LAST-MODIFIED:20190820T191946Z
UID:3785-1566478800-1566478800@www.prb.texas.gov
SUMMARY:TMRS Board Meeting
DESCRIPTION:
URL:https://www.prb.texas.gov/event/tmrs-board-meeting-11/
LOCATION:TMRS Headquarters\, 1200 North IH 35\, Austin\, TX\, United States
END:VEVENT
END:VCALENDAR