BEGIN:VCALENDAR
VERSION:2.0
PRODID:-//Texas Pension Review Board - ECPv5.6.0//NONSGML v1.0//EN
CALSCALE:GREGORIAN
METHOD:PUBLISH
X-WR-CALNAME:Texas Pension Review Board
X-ORIGINAL-URL:https://www.prb.texas.gov
X-WR-CALDESC:Events for Texas Pension Review Board
BEGIN:VTIMEZONE
TZID:America/Chicago
BEGIN:DAYLIGHT
TZOFFSETFROM:-0600
TZOFFSETTO:-0500
TZNAME:CDT
DTSTART:20160313T080000
END:DAYLIGHT
BEGIN:STANDARD
TZOFFSETFROM:-0500
TZOFFSETTO:-0600
TZNAME:CST
DTSTART:20161106T070000
END:STANDARD
END:VTIMEZONE
BEGIN:VEVENT
DTSTART;VALUE=DATE:20161201
DTEND;VALUE=DATE:20161203
DTSTAMP:20210505T020102
CREATED:20160414T051026Z
LAST-MODIFIED:20160414T051026Z
UID:2114-1480550400-1480723199@www.prb.texas.gov
SUMMARY:Teacher Retirement System of Texas - Quarterly Board Meeting
DESCRIPTION:
URL:https://www.prb.texas.gov/event/teacher-retirement-system-of-texas-quarterly-board-meeting-4/
CATEGORIES:Meeting
END:VEVENT
END:VCALENDAR