BEGIN:VCALENDAR
VERSION:2.0
PRODID:-//Texas Pension Review Board - ECPv5.7.0//NONSGML v1.0//EN
CALSCALE:GREGORIAN
METHOD:PUBLISH
X-WR-CALNAME:Texas Pension Review Board
X-ORIGINAL-URL:https://www.prb.texas.gov
X-WR-CALDESC:Events for Texas Pension Review Board
BEGIN:VTIMEZONE
TZID:America/Chicago
BEGIN:DAYLIGHT
TZOFFSETFROM:-0600
TZOFFSETTO:-0500
TZNAME:CDT
DTSTART:20180311T080000
END:DAYLIGHT
BEGIN:STANDARD
TZOFFSETFROM:-0500
TZOFFSETTO:-0600
TZNAME:CST
DTSTART:20181104T070000
END:STANDARD
END:VTIMEZONE
BEGIN:VEVENT
DTSTART;VALUE=DATE:20181206
DTEND;VALUE=DATE:20181207
DTSTAMP:20210617T185118
CREATED:20180516T200015Z
LAST-MODIFIED:20180516T200015Z
UID:3448-1544054400-1544140799@www.prb.texas.gov
SUMMARY:TCDRS Board Meeting
DESCRIPTION:
URL:https://www.prb.texas.gov/event/tcdrs-board-meeting-2/
LOCATION:TCDRS\, 901 South Mopac\, Bldg 4\, Austin\, TX\, United States
END:VEVENT
END:VCALENDAR