BEGIN:VCALENDAR
VERSION:2.0
PRODID:-//Texas Pension Review Board - ECPv5.6.0//NONSGML v1.0//EN
CALSCALE:GREGORIAN
METHOD:PUBLISH
X-WR-CALNAME:Texas Pension Review Board
X-ORIGINAL-URL:https://www.prb.texas.gov
X-WR-CALDESC:Events for Texas Pension Review Board
BEGIN:VTIMEZONE
TZID:America/Chicago
BEGIN:DAYLIGHT
TZOFFSETFROM:-0600
TZOFFSETTO:-0500
TZNAME:CDT
DTSTART:20160313T080000
END:DAYLIGHT
BEGIN:STANDARD
TZOFFSETFROM:-0500
TZOFFSETTO:-0600
TZNAME:CST
DTSTART:20161106T070000
END:STANDARD
END:VTIMEZONE
BEGIN:VEVENT
DTSTART;VALUE=DATE:20160525
DTEND;VALUE=DATE:20160526
DTSTAMP:20210518T075321
CREATED:20160414T044200Z
LAST-MODIFIED:20160414T044200Z
UID:2085-1464134400-1464220799@www.prb.texas.gov
SUMMARY:San Antonio Fire & Police Pension Fund - Board Meeting
DESCRIPTION:
URL:https://www.prb.texas.gov/event/san-antonio-fire-police-pension-fund-board-meeting-2/
CATEGORIES:Meeting
END:VEVENT
END:VCALENDAR