BEGIN:VCALENDAR
VERSION:2.0
PRODID:-//Texas Pension Review Board - ECPv5.7.0//NONSGML v1.0//EN
CALSCALE:GREGORIAN
METHOD:PUBLISH
X-WR-CALNAME:Texas Pension Review Board
X-ORIGINAL-URL:https://www.prb.texas.gov
X-WR-CALDESC:Events for Texas Pension Review Board
BEGIN:VTIMEZONE
TZID:America/Chicago
BEGIN:DAYLIGHT
TZOFFSETFROM:-0600
TZOFFSETTO:-0500
TZNAME:CDT
DTSTART:20180311T080000
END:DAYLIGHT
BEGIN:STANDARD
TZOFFSETFROM:-0500
TZOFFSETTO:-0600
TZNAME:CST
DTSTART:20181104T070000
END:STANDARD
END:VTIMEZONE
BEGIN:VEVENT
DTSTART;TZID=America/Chicago:20181004T110000
DTEND;TZID=America/Chicago:20181004T150000
DTSTAMP:20210617T185030
CREATED:20180124T210838Z
LAST-MODIFIED:20181002T190625Z
UID:3258-1538650800-1538665200@www.prb.texas.gov
SUMMARY:Pension Review Board Meeting
DESCRIPTION:Capitol Extension\, Committee Room E1.012 \n1400 N. Congress Avenue\, Austin\, Texas 78701
URL:https://www.prb.texas.gov/event/pension-review-board-meeting-4/
LOCATION:Capitol Extension\, Committee Room E1.012\, 1100 N. Congress Avenue\, Austin\, TX\, 78701\, United States
END:VEVENT
END:VCALENDAR