BEGIN:VCALENDAR
VERSION:2.0
PRODID:-//Texas Pension Review Board - ECPv5.7.0//NONSGML v1.0//EN
CALSCALE:GREGORIAN
METHOD:PUBLISH
X-WR-CALNAME:Texas Pension Review Board
X-ORIGINAL-URL:https://www.prb.texas.gov
X-WR-CALDESC:Events for Texas Pension Review Board
BEGIN:VTIMEZONE
TZID:America/Chicago
BEGIN:DAYLIGHT
TZOFFSETFROM:-0600
TZOFFSETTO:-0500
TZNAME:CDT
DTSTART:20200308T080000
END:DAYLIGHT
BEGIN:STANDARD
TZOFFSETFROM:-0500
TZOFFSETTO:-0600
TZNAME:CST
DTSTART:20201101T070000
END:STANDARD
END:VTIMEZONE
BEGIN:VEVENT
DTSTART;TZID=America/Chicago:20200507T090000
DTEND;TZID=America/Chicago:20200507T110000
DTSTAMP:20210529T220529
CREATED:20200403T203905Z
LAST-MODIFIED:20200615T170944Z
UID:5142-1588842000-1588849200@www.prb.texas.gov
SUMMARY:PRB Joint Meeting of the Investment and Actuarial Committees
DESCRIPTION:
URL:https://www.prb.texas.gov/event/joint-meeting-of-the-investment-and-actuarial-committees/
END:VEVENT
END:VCALENDAR