BEGIN:VCALENDAR
VERSION:2.0
PRODID:-//Texas Pension Review Board - ECPv5.7.0//NONSGML v1.0//EN
CALSCALE:GREGORIAN
METHOD:PUBLISH
X-WR-CALNAME:Texas Pension Review Board
X-ORIGINAL-URL:https://www.prb.texas.gov
X-WR-CALDESC:Events for Texas Pension Review Board
BEGIN:VTIMEZONE
TZID:America/Chicago
BEGIN:DAYLIGHT
TZOFFSETFROM:-0600
TZOFFSETTO:-0500
TZNAME:CDT
DTSTART:20200308T080000
END:DAYLIGHT
BEGIN:STANDARD
TZOFFSETFROM:-0500
TZOFFSETTO:-0600
TZNAME:CST
DTSTART:20201101T070000
END:STANDARD
END:VTIMEZONE
BEGIN:VEVENT
DTSTART;TZID=America/Chicago:20200514T073000
DTEND;TZID=America/Chicago:20200514T073000
DTSTAMP:20210529T220711
CREATED:20200213T193908Z
LAST-MODIFIED:20200213T193908Z
UID:5046-1589441400-1589441400@www.prb.texas.gov
SUMMARY:Houston Police Officers’ Pension System Board Meeting
DESCRIPTION:
URL:https://www.prb.texas.gov/event/houston-police-officers-pension-system-board-meeting-4/
END:VEVENT
END:VCALENDAR