BEGIN:VCALENDAR
VERSION:2.0
PRODID:-//Texas Pension Review Board - ECPv5.9.1//NONSGML v1.0//EN
CALSCALE:GREGORIAN
METHOD:PUBLISH
X-WR-CALNAME:Texas Pension Review Board
X-ORIGINAL-URL:https://www.prb.texas.gov
X-WR-CALDESC:Events for Texas Pension Review Board
BEGIN:VTIMEZONE
TZID:America/Chicago
BEGIN:DAYLIGHT
TZOFFSETFROM:-0600
TZOFFSETTO:-0500
TZNAME:CDT
DTSTART:20200308T080000
END:DAYLIGHT
BEGIN:STANDARD
TZOFFSETFROM:-0500
TZOFFSETTO:-0600
TZNAME:CST
DTSTART:20201101T070000
END:STANDARD
END:VTIMEZONE
BEGIN:VEVENT
DTSTART;TZID=America/Chicago:20201215T100000
DTEND;TZID=America/Chicago:20201215T100000
DTSTAMP:20210923T224904
CREATED:20200213T192456Z
LAST-MODIFIED:20200213T192456Z
UID:5016-1608026400-1608026400@www.prb.texas.gov
SUMMARY:Houston Firefighters’ Relief & Retirement Fund Board Meeting
DESCRIPTION:*Date subject to change*
URL:https://www.prb.texas.gov/event/houston-firefighters-relief-retirement-fund-board-meeting-11/
END:VEVENT
END:VCALENDAR